BEGIN:VCALENDAR
VERSION:2.0
PRODID:-//Cape &amp; Plymouth Business Marketing - ECPv6.15.20//NONSGML v1.0//EN
CALSCALE:GREGORIAN
METHOD:PUBLISH
X-WR-CALNAME:Cape &amp; Plymouth Business Marketing
X-ORIGINAL-URL:https://capeplymouthbusiness.com
X-WR-CALDESC:Events for Cape &amp; Plymouth Business Marketing
REFRESH-INTERVAL;VALUE=DURATION:PT1H
X-Robots-Tag:noindex
X-PUBLISHED-TTL:PT1H
BEGIN:VTIMEZONE
TZID:America/New_York
BEGIN:DAYLIGHT
TZOFFSETFROM:-0500
TZOFFSETTO:-0400
TZNAME:EDT
DTSTART:20250309T070000
END:DAYLIGHT
BEGIN:STANDARD
TZOFFSETFROM:-0400
TZOFFSETTO:-0500
TZNAME:EST
DTSTART:20251102T060000
END:STANDARD
BEGIN:DAYLIGHT
TZOFFSETFROM:-0500
TZOFFSETTO:-0400
TZNAME:EDT
DTSTART:20260308T070000
END:DAYLIGHT
BEGIN:STANDARD
TZOFFSETFROM:-0400
TZOFFSETTO:-0500
TZNAME:EST
DTSTART:20261101T060000
END:STANDARD
BEGIN:DAYLIGHT
TZOFFSETFROM:-0500
TZOFFSETTO:-0400
TZNAME:EDT
DTSTART:20270314T070000
END:DAYLIGHT
BEGIN:STANDARD
TZOFFSETFROM:-0400
TZOFFSETTO:-0500
TZNAME:EST
DTSTART:20271107T060000
END:STANDARD
END:VTIMEZONE
BEGIN:VEVENT
DTSTART;TZID=America/New_York:20260429T173000
DTEND;TZID=America/New_York:20260429T190000
DTSTAMP:20260421T142345
CREATED:20260421T141214Z
LAST-MODIFIED:20260421T141214Z
UID:10003304-1777483800-1777489200@capeplymouthbusiness.com
SUMMARY:Evening Networking at Train Full Send
DESCRIPTION:Join us on Wednesday\, April 29 for some Business After Hours networking fun at Train Full Send. Open to all! \n  \nTrain Full Send\n11 Evergreen Circle Suite C\nMashpee\, MA 02649 United States
URL:https://capeplymouthbusiness.com/event-details/evening-networking-at-train-full-send/
CATEGORIES:In Person Event,Networking
END:VEVENT
END:VCALENDAR