BEGIN:VCALENDAR
VERSION:2.0
PRODID:-//Cape &amp; Plymouth Business Marketing - ECPv6.15.20//NONSGML v1.0//EN
CALSCALE:GREGORIAN
METHOD:PUBLISH
X-WR-CALNAME:Cape &amp; Plymouth Business Marketing
X-ORIGINAL-URL:https://capeplymouthbusiness.com
X-WR-CALDESC:Events for Cape &amp; Plymouth Business Marketing
REFRESH-INTERVAL;VALUE=DURATION:PT1H
X-Robots-Tag:noindex
X-PUBLISHED-TTL:PT1H
BEGIN:VTIMEZONE
TZID:America/New_York
BEGIN:DAYLIGHT
TZOFFSETFROM:-0500
TZOFFSETTO:-0400
TZNAME:EDT
DTSTART:20250309T070000
END:DAYLIGHT
BEGIN:STANDARD
TZOFFSETFROM:-0400
TZOFFSETTO:-0500
TZNAME:EST
DTSTART:20251102T060000
END:STANDARD
BEGIN:DAYLIGHT
TZOFFSETFROM:-0500
TZOFFSETTO:-0400
TZNAME:EDT
DTSTART:20260308T070000
END:DAYLIGHT
BEGIN:STANDARD
TZOFFSETFROM:-0400
TZOFFSETTO:-0500
TZNAME:EST
DTSTART:20261101T060000
END:STANDARD
BEGIN:DAYLIGHT
TZOFFSETFROM:-0500
TZOFFSETTO:-0400
TZNAME:EDT
DTSTART:20270314T070000
END:DAYLIGHT
BEGIN:STANDARD
TZOFFSETFROM:-0400
TZOFFSETTO:-0500
TZNAME:EST
DTSTART:20271107T060000
END:STANDARD
END:VTIMEZONE
BEGIN:VEVENT
DTSTART;TZID=America/New_York:20260301T160000
DTEND;TZID=America/New_York:20260301T200000
DTSTAMP:20260421T142512
CREATED:20260211T172130Z
LAST-MODIFIED:20260211T172130Z
UID:10003275-1772380800-1772395200@capeplymouthbusiness.com
SUMMARY:Karaoke Fundraiser – Hosted by Dancer Will McCassie
DESCRIPTION:
URL:https://capeplymouthbusiness.com/event-details/karaoke-fundraiser-hosted-by-dancer-will-mccassie/
LOCATION:Annas Harborside\, Plymouth
CATEGORIES:Fundraising Event,In Person Event
END:VEVENT
BEGIN:VEVENT
DTSTART;TZID=America/New_York:20260303T160000
DTEND;TZID=America/New_York:20260303T190000
DTSTAMP:20260421T142512
CREATED:20260211T172709Z
LAST-MODIFIED:20260212T193551Z
UID:10003277-1772553600-1772564400@capeplymouthbusiness.com
SUMMARY:Apr?s Ski Fundraiser – Hosted by Taylor Stefano
DESCRIPTION:
URL:https://capeplymouthbusiness.com/event-details/aprs-ski-fundraiser-hosted-by-taylor-stefano/
LOCATION:Speedwell Tavern\, 47 Main Street\, Plymouth\, MA\, 02360\, United States
CATEGORIES:Fundraising Event,In Person Event
END:VEVENT
BEGIN:VEVENT
DTSTART;TZID=America/New_York:20260304T120000
DTEND;TZID=America/New_York:20260304T133000
DTSTAMP:20260421T142512
CREATED:20260218T163959Z
LAST-MODIFIED:20260218T163959Z
UID:10003278-1772625600-1772631000@capeplymouthbusiness.com
SUMMARY:Networking Luncheon - Artisan Pig
DESCRIPTION:Join us for an exciting networking luncheon designed to bring together like-minded business professionals in a dynamic and engaging setting. This facilitated event offers the perfect opportunity to expand your network\, share insights\, and build valuable connections. \nYou’ll also have the chance to address the audience\, spotlight your business\, and foster relationships that could lead to new opportunities and collaborations. Don’t miss this chance to connect\, learn\, and grow alongside fellow professionals. \nA delicious assortment of pizzas will be served buffet-style for lunch. If you have any dietary restrictions\, please let us know in advance so we can accommodate your needs.
URL:https://capeplymouthbusiness.com/event-details/networking-luncheon-artisan-pig-2/
LOCATION:Artisan Pig\, 66 Court Street\, Plymouth\, MA\, United States
CATEGORIES:In Person Event,Networking
ORGANIZER;CN="The Plymouth Area Chamber of Commerce":MAILTO:jr@plymouthchamber.com
END:VEVENT
BEGIN:VEVENT
DTSTART;TZID=America/New_York:20260305T080000
DTEND;TZID=America/New_York:20260305T090000
DTSTAMP:20260421T142512
CREATED:20260219T222523Z
LAST-MODIFIED:20260219T222523Z
UID:10003279-1772697600-1772701200@capeplymouthbusiness.com
SUMMARY:Business Before Hours at Maris Cape Cod
DESCRIPTION:Join us for our next Business Before Hours at\n\nMaris Cape Cod\n99 Wilkins Lane\, Hyannis\nThursday\, March 5th 8-9am\n \nJoin fellow Chamber members and local professionals for a relaxed and welcoming morning of networking. Ease into your day with a fresh cup of coffee and genuine conversations that can spark new partnerships\, referrals\, and ideas.\n\nBring your business cards\, your smile\, and maybe even a colleague — mornings are better when shared.\n\nSponsored by:
URL:https://capeplymouthbusiness.com/event-details/business-before-hours-at-maris-cape-cod/
CATEGORIES:In Person Event,Networking
ORGANIZER;CN="Hyannis Chamber of Commerce":MAILTO:info@hyannis.com
END:VEVENT
BEGIN:VEVENT
DTSTART;TZID=America/New_York:20260312T080000
DTEND;TZID=America/New_York:20260312T170000
DTSTAMP:20260421T142512
CREATED:20260312T195044Z
LAST-MODIFIED:20260312T195044Z
UID:10003289-1773302400-1773334800@capeplymouthbusiness.com
SUMMARY:Vela Juice Bar Ribbon Cutting
DESCRIPTION:oin us for a ribbon cutting!\nJoin us as we celebrate Vela Juice Bar’s opening of their second location\, located in Cedarville!
URL:https://capeplymouthbusiness.com/event-details/vela-juice-bar-ribbon-cutting/
CATEGORIES:In Person Event,Ribbon Cutting
ORGANIZER;CN="The Plymouth Area Chamber of Commerce":MAILTO:jr@plymouthchamber.com
END:VEVENT
BEGIN:VEVENT
DTSTART;TZID=America/New_York:20260312T170000
DTEND;TZID=America/New_York:20260312T183000
DTSTAMP:20260421T142512
CREATED:20260306T174232Z
LAST-MODIFIED:20260306T174232Z
UID:10003285-1773334800-1773340200@capeplymouthbusiness.com
SUMMARY:Nonprofit Networking
DESCRIPTION:Philanthropy Partners of the Cape and Islands (PPCI) invites you to a free\, in-person\, Business After Hours Networking Event at Heroes in Transition\, 766 Falmouth Rd\, Unit A-9\, (Madaket Place on Route 28) in Mashpee\, on Thursday\, March 12\, 2026 from 5:00 pm – 6:30 pm. \n\n\n\nJoin us to celebrate the spirit of collaboration and community with fellow non-profit professionals. Light refreshments will be available. \nOpen to all nonprofit professionals\, volunteers and board members! \nThis in person event is FREE to attend with advance registration for both PPCI members and non-members\, please register online via the link below. Pre-registration is strongly recommended. \nThis is a great time for nonprofit professionals and volunteers to network\, learn more about PPCI\, and experience Heroes in Transition.
URL:https://capeplymouthbusiness.com/event-details/nonprofit-networking/
CATEGORIES:In Person Event,Networking,Professional Development
ORGANIZER;CN="Philanthropy Partners of the Cape and Islands":MAILTO:ppci@capecodgiving.org
END:VEVENT
BEGIN:VEVENT
DTSTART;TZID=America/New_York:20260319T170000
DTEND;TZID=America/New_York:20260319T183000
DTSTAMP:20260421T142512
CREATED:20260305T012906Z
LAST-MODIFIED:20260305T012906Z
UID:10003284-1773939600-1773945000@capeplymouthbusiness.com
SUMMARY:FALMOUTH CHAMBER BUSINESS AFTER HOURS AT NOBSKA LIGHT
DESCRIPTION:March 4\, 2026\, Falmouth\, MA – Please join us with our host\, Friends of Nobska Light\, Inc. for a Business After Hours Networking Event on Thursday\, March 19th\, from 5PM– 6:30PM. The event is also generously hosted by two Falmouth Chamber members\, Eat Your Heart Out Catering and John’s Liquors. Nobska Light is located at 233 Nobska Road\, Woods Hole\, MA. Please note that this event is limited to 50 people.\n\nFriends of Nobska Light is committed to the preservation and protection of this beloved Cape Cod landmark ensuring its future enjoyment for our community and visitors alike.\n\nGather in an informal and friendly atmosphere to make new acquaintances and network with fellow businesspeople.\nRefreshments provided.\nNo charge. Please register online at falmouthchamber.com or call 508-548-8500.
URL:https://capeplymouthbusiness.com/event-details/falmouth-chamber-business-after-hours-at-nobska-light/
CATEGORIES:In Person Event,Networking
ORGANIZER;CN="Falmouth Chamber of Commerce":MAILTO:info@falmouthchamber.com
END:VEVENT
BEGIN:VEVENT
DTSTART;TZID=America/New_York:20260319T173000
DTEND;TZID=America/New_York:20260319T190000
DTSTAMP:20260421T142512
CREATED:20260316T153451Z
LAST-MODIFIED:20260316T153451Z
UID:10003291-1773941400-1773946800@capeplymouthbusiness.com
SUMMARY:usiness After Hours at Zavia Walker
DESCRIPTION:Join the Greater Hyannis Chamber of Commerce for a vibrant Business After Hours at Zavia Walker\n\nJoin the Greater Hyannis Chamber of Commerce for a vibrant Business After Hours on Thursday\, March 19th from 5:30–7:00 PM at Zavia Walker\, 606 Main Street\, Hyannis.\n\nStep inside this stunning fashion and lifestyle showroom where exclusive hand-painted prints meet timeless silhouettes\, transforming original artwork into wearable expression and collectible design. More than a boutique\, Zavia Walker is a creative hub — and the founder of Pop-Up Street Cape Cod\, an innovative platform blending art\, business\, tourism\, and community to elevate local artists and chefs.\n\nEnjoy delicious catering by Island Cafe & Grill\, connect with fellow professionals\, and experience one of Hyannis’ most inspiring creative spaces.\n\nSponsored by Cape Cod 5\, this is an evening of style\, collaboration\, and meaningful networking you won’t want to miss!
URL:https://capeplymouthbusiness.com/event-details/usiness-after-hours-at-zavia-walker/
CATEGORIES:In Person Event,Networking
ORGANIZER;CN="Cape Cod Chamber of Commerce":MAILTO:info@capecodchamber.org
END:VEVENT
BEGIN:VEVENT
DTSTART;TZID=America/New_York:20260319T173000
DTEND;TZID=America/New_York:20260319T193000
DTSTAMP:20260421T142512
CREATED:20260302T184905Z
LAST-MODIFIED:20260302T184905Z
UID:10003283-1773941400-1773948600@capeplymouthbusiness.com
SUMMARY:2026 Annual Dinner Meeting & Celebration of the Citizen of the Year and Unsung Heroes
DESCRIPTION:Join us for the 2026 Annual Meeting at The Club at New Seabury! The 2026 Annual Meeting will be held on Thursday\, March 19\, 2025 from 5:30pm – 7:30pm at The Club at New Seabury. During this event\, we will honor local residents by awarding the 2026 Citizen of the Year and Mashpee Unsung Heroes Awards. \nIf you know someone who should be recognized for either of these awards\, please submit our nomination form below by February 13\, 2026.
URL:https://capeplymouthbusiness.com/event-details/2026-annual-dinner-meeting-celebration-of-the-citizen-of-the-year-and-unsung-heroes/
LOCATION:The Club at New Seabury\, 95 Shore Drive West\, Mashpee\, 02649\, United States
CATEGORIES:In Person Event,Networking,Professional Development,Summit
END:VEVENT
BEGIN:VEVENT
DTSTART;TZID=America/New_York:20260324T170000
DTEND;TZID=America/New_York:20260324T190000
DTSTAMP:20260421T142512
CREATED:20260225T162508Z
LAST-MODIFIED:20260225T162508Z
UID:10003281-1774371600-1774378800@capeplymouthbusiness.com
SUMMARY:47th Annual Meeting!
DESCRIPTION:Join us for our 47th Annual Meeting!\nLebaron Hills Counry Club | 183 Rhode Island Road | Lakeville \nTuesday\, March 24\, 2026     \n5:00 Networking & Expo  |  6:00 Meeting and Dinner\nSponsorships and Marketing Tables available!\nLet’s celebrate your chamber and the country’s 250th!
URL:https://capeplymouthbusiness.com/event-details/47th-annual-meeting/
LOCATION:LeBaron Hills Country Club\, 183 Rhode Island Rd\, Lakeville\, MA\, 02347\, United States
CATEGORIES:In Person Event,Networking
END:VEVENT
BEGIN:VEVENT
DTSTART;TZID=America/New_York:20260325T173000
DTEND;TZID=America/New_York:20260325T190000
DTSTAMP:20260421T142512
CREATED:20260306T180010Z
LAST-MODIFIED:20260306T180101Z
UID:10003287-1774459800-1774465200@capeplymouthbusiness.com
SUMMARY:Evening Networking at Woodruff's Art Center
DESCRIPTION:Join us on Wednesday\, March 25 for some Business After Hours networking fun at Woodruff’s Art Center. Open to all! \n 
URL:https://capeplymouthbusiness.com/event-details/evening-networking-at-woodruffs-art-center/
LOCATION:Woodruff’s Art Center\, 1 Market St\, Mashpee\, 02649\, United States
CATEGORIES:In Person Event,Networking,Professional Development
END:VEVENT
BEGIN:VEVENT
DTSTART;TZID=America/New_York:20260326T170000
DTEND;TZID=America/New_York:20260326T190000
DTSTAMP:20260421T142512
CREATED:20260224T184714Z
LAST-MODIFIED:20260224T184715Z
UID:10003280-1774544400-1774551600@capeplymouthbusiness.com
SUMMARY:2026 Annual Meeting
DESCRIPTION:
URL:https://capeplymouthbusiness.com/event-details/2026-annual-meeting-2/
CATEGORIES:In Person Event,Networking
END:VEVENT
BEGIN:VEVENT
DTSTART;TZID=America/New_York:20260327T080000
DTEND;TZID=America/New_York:20260327T090000
DTSTAMP:20260421T142512
CREATED:20260312T193815Z
LAST-MODIFIED:20260312T193815Z
UID:10003288-1774598400-1774602000@capeplymouthbusiness.com
SUMMARY:Good Morning Networking at Salty Broad Studios
DESCRIPTION:
URL:https://capeplymouthbusiness.com/event-details/good-morning-networking-at-salty-broad-studios/
CATEGORIES:In Person Event,Networking,Professional Development
ORGANIZER;CN="Cape Cod Chamber of Commerce":MAILTO:info@capecodchamber.org
END:VEVENT
BEGIN:VEVENT
DTSTART;TZID=America/New_York:20260331T093000
DTEND;TZID=America/New_York:20260331T120000
DTSTAMP:20260421T142512
CREATED:20260106T223928Z
LAST-MODIFIED:20260312T192540Z
UID:10003254-1774949400-1774958400@capeplymouthbusiness.com
SUMMARY:Travel & Tourism Industry Forum 2026
DESCRIPTION:Due to the February blizzard that forced us to cancel the original event\, the Cape Cod Travel and Tourism Forum has been rescheduled to March 31. \nIf you previously purchased a ticket\, you will be automatically registered for the new date—no action needed on your part. \nRegistration is now open for anyone who would like to attend. We look forward to seeing you there! \nThe 2026 Travel & Tourism Industry Forum brings together leaders\, innovators\, and stakeholders from across Cape Cod to discuss trends\, share strategies\, and shape the future of our region’s tourism economy. \n2026 Travel & Tourism Industry Forum: A Critical Conversation\nThe 2026 Travel and Tourism Industry Forum will feature a robust agenda\, including remarks from Paul Niedzwiecki\, CEO of the Cape Cod Chamber\, who will delve into why Cape Cod deserves a fair and equitable share of state tourism dollars. \nThis is an important day of insight\, collaboration\, and advocacy for our industry. Read more in the February edition of The Cape Cod Chamber Collective CEO’s Corner
URL:https://capeplymouthbusiness.com/event-details/travel-tourism-industry-forum-2026/
LOCATION:Margaritaville Resort Cape Cod\, 1225 Iyannough Rd\, Hyannis\, MA\, 02601\, United States
CATEGORIES:In Person Event,Professional Development,Summit,Vendor Event
ORGANIZER;CN="Cape Cod Chamber of Commerce":MAILTO:info@capecodchamber.org
END:VEVENT
END:VCALENDAR