BEGIN:VCALENDAR
VERSION:2.0
PRODID:-//Cape &amp; Plymouth Business Marketing - ECPv6.15.20//NONSGML v1.0//EN
CALSCALE:GREGORIAN
METHOD:PUBLISH
X-ORIGINAL-URL:https://capeplymouthbusiness.com
X-WR-CALDESC:Events for Cape &amp; Plymouth Business Marketing
REFRESH-INTERVAL;VALUE=DURATION:PT1H
X-Robots-Tag:noindex
X-PUBLISHED-TTL:PT1H
BEGIN:VTIMEZONE
TZID:America/New_York
BEGIN:DAYLIGHT
TZOFFSETFROM:-0500
TZOFFSETTO:-0400
TZNAME:EDT
DTSTART:20250309T070000
END:DAYLIGHT
BEGIN:STANDARD
TZOFFSETFROM:-0400
TZOFFSETTO:-0500
TZNAME:EST
DTSTART:20251102T060000
END:STANDARD
BEGIN:DAYLIGHT
TZOFFSETFROM:-0500
TZOFFSETTO:-0400
TZNAME:EDT
DTSTART:20260308T070000
END:DAYLIGHT
BEGIN:STANDARD
TZOFFSETFROM:-0400
TZOFFSETTO:-0500
TZNAME:EST
DTSTART:20261101T060000
END:STANDARD
BEGIN:DAYLIGHT
TZOFFSETFROM:-0500
TZOFFSETTO:-0400
TZNAME:EDT
DTSTART:20270314T070000
END:DAYLIGHT
BEGIN:STANDARD
TZOFFSETFROM:-0400
TZOFFSETTO:-0500
TZNAME:EST
DTSTART:20271107T060000
END:STANDARD
END:VTIMEZONE
BEGIN:VEVENT
DTSTART;TZID=America/New_York:20260603T080000
DTEND;TZID=America/New_York:20260603T090000
DTSTAMP:20260421T091639
CREATED:20260402T175851Z
LAST-MODIFIED:20260402T175851Z
UID:10003294-1780473600-1780477200@capeplymouthbusiness.com
SUMMARY:Morning Business Connections - Sandwich Glass Museum
DESCRIPTION:Come join us for a morning of networking with friends and colleagues! \n\n\n\n\nSandwich Historical Society dba Sandwich Glass Museum\nP.O. Box 103\, 129 Main Street\nSandwich\, MA 02563\n\n\n\n\n\n\n\n\n\n\n\n  \n\n\n\n\n 
URL:https://capeplymouthbusiness.com/event-details/morning-business-connections-sandwich-glass-museum/
LOCATION:MA
CATEGORIES:In Person Event,Networking
END:VEVENT
BEGIN:VEVENT
DTSTART;TZID=America/New_York:20260603T170000
DTEND;TZID=America/New_York:20260603T190000
DTSTAMP:20260421T091639
CREATED:20260417T201222Z
LAST-MODIFIED:20260417T201222Z
UID:10003302-1780506000-1780513200@capeplymouthbusiness.com
SUMMARY:104th Cape Cod Chamber Annual Meeting
DESCRIPTION:On Wednesday\, June 3\, the Cape Cod Chamber of Commerce will host the 104th Annual Meeting at the Seacrest Beach Resort\, 350 Quaker Road\, North Falmouth \nJoin top leaders and influencers in the Cape Cod business community as we celebrate the year’s accomplishments and look ahead at our plans for positive change in our region. \nTickets – Members: $125\, General Admission: $145.\nEvening includes cocktail hour with cash bar\,  dinner and dessert buffet overlooking Nantucket Sound.
URL:https://capeplymouthbusiness.com/event-details/104th-cape-cod-chamber-annual-meeting/
LOCATION:Sea Crest Beach Hotel\, 350 Quaker Rd\, North Falmouth\, MA\, 02556\, United States
CATEGORIES:In Person Event,Summit,Vendor Event
ORGANIZER;CN="Cape Cod Chamber of Commerce":MAILTO:info@capecodchamber.org
END:VEVENT
BEGIN:VEVENT
DTSTART;TZID=America/New_York:20260611T160000
DTEND;TZID=America/New_York:20260611T170000
DTSTAMP:20260421T091639
CREATED:20260113T175404Z
LAST-MODIFIED:20260408T150427Z
UID:10003259-1781193600-1781197200@capeplymouthbusiness.com
SUMMARY:2026 Watchlist
DESCRIPTION:SponsorsSpotlightCommunity Sponsors\nSea Scoops Ice Cream\nCape Cod Home Improvements\n\n5th Annual Watchlist AwardsCape & Plymouth Business Marketing proudly presents the 5th Annual Watchlist Awards\, taking place on June 11 at Margaritaville Resort Cape Cod. \nThe Watchlist Awards were created to celebrate local businesses that are established (in business at least one year) and truly on the rise—the ones building momentum\, growing their presence\, and making a meaningful impact in our community. \nThis is not about how big you are—it’s about where you’re headed.\nIf you’re showing up\, putting in the work\, and your business is gaining traction\, this is your moment to be recognized. \nEligibility & Notes \n\nBusinesses must be locally owned and in operation for at least one year\nAll nominations are reviewed before local choice voting to ensure they align with the Watchlist mission—recognizing businesses to WATCH: up-and-coming\, making waves\, and gaining momentum in our community. If Cape & Plymouth Business Marketing determines a nomination isn’t the right fit based on eligibility and overall alignment\, we reserve the right to withhold it from voting and recommend it for future consideration.\n\n\n\n                \n                        \n                            Ticket Checkout - WATCHLIST 2026\n                             \n                        \n                        Coupon Ticket Quantity:(Required)1234567Table of 8Attendee 1 - Badge Name(Required)Attendee 1 - Company Name(Required)Attendee 1 - Email(Required)\n                            \n                        Attendee 2 - Badge Name(Required)Attendee 2 - Company Name(Required)Attendee 2 - Email(Required)\n                            \n                        Attendee 3 - Badge Name(Required)Attendee 3 - Company Name(Required)Attendee 3 - Email(Required)\n                            \n                        Attendee 4 - Badge Name(Required)Attendee 4 - Company Name(Required)Attendee 4 - Email(Required)\n                            \n                        Attendee 5 - Badge Name(Required)Attendee 5 - Company Name(Required)Attendee 5 - Email(Required)\n                            \n                        Attendee 6 - Badge Name(Required)Attendee 6 - Company Name(Required)Attendee 6 - Email(Required)\n                            \n                        Attendee 7 - Badge Name(Required)Attendee 7 - Company Name(Required)Attendee 7 - Email(Required)\n                            \n                        Attendee 8 - Badge Name(Required)Attendee 8 - Company Name(Required)Attendee 8 - Email(Required)\n                            \n                        Total\n							\n						Credit CardCard Details\n					\n					Cardholder Name
URL:https://capeplymouthbusiness.com/event-details/2026-watchlist/
LOCATION:Margaritaville Resort Cape Cod\, 1225 Iyannough Rd\, Hyannis\, MA\, 02601\, United States
CATEGORIES:Cape & Plymouth Business Media Event,In Person Event,Professional Development
ORGANIZER;CN="Cape & Plymouth Business Marketing":MAILTO:office@capeplymouthbusiness.com
END:VEVENT
BEGIN:VEVENT
DTSTART;TZID=America/New_York:20260611T173000
DTEND;TZID=America/New_York:20260611T200000
DTSTAMP:20260421T091639
CREATED:20260205T163920Z
LAST-MODIFIED:20260407T194918Z
UID:10003270-1781199000-1781208000@capeplymouthbusiness.com
SUMMARY:40 Under 40 2026
DESCRIPTION:2026 Nominations OpenDeadline: April 17 \nTICKETS ON SALE NOW\n                        \n                            2026 40 Under 40 - Ticket Checkout\n                             \n                        \n                        Coupon Code Enter: Ticket Quantity:(Required)1234567Attendee 1 - Badge Name - Line 1(Required)Attendee 1 - Badge Name - Line 2(Required)Attendee 1 Badge Company - Line 1Attendee 1 Badge Company - Line 2Attendee 1 - Email(Required)\n                            \n                        Attendee 2 - Badge Name - Line 1(Required)Attendee 2 - Badge Name - Line 2(Required)Attendee 2 - Company Name - Line 1Attendee 2 - Company Name - Line 2Attendee 2 - Email(Required)\n                            \n                        Attendee 3 - Badge Name - Line 1(Required)Attendee 3 - Badge Name - Line 2(Required)Attendee 3 - Company Name - Line 1Attendee 3 Badge Company - Line 2Attendee 3 - Email(Required)\n                            \n                        Attendee 4 - Badge Name(Required)Attendee 4 - Badge Name - Line 2(Required)Attendee 4 Badge Company - Line 1Attendee 4 Badge Company - Line 2Attendee 4 - Email(Required)\n                            \n                        Attendee 5 - Badge Name - Line 1(Required)Attendee 5 - Badge Name - Line 2(Required)Attendee 5 Badge Company - Line 1Attendee 5 Badge Company - Line 2Attendee 5 - Email(Required)\n                            \n                        Attendee 6 - Badge Name - Line 1Attendee 6 - Badge Name - Line 2(Required)Attendee 6 Badge Company - Line 1Attendee 6 Badge Company - Line 2Attendee 6 - Email(Required)\n                            \n                        Attendee 7 - Badge Name - Line 1(Required)Attendee 7 - Badge Name - Line 2(Required)Attendee 7 Badge Company - Line 1Attendee 7 Badge Company - Line 2Attendee 7 - Email(Required)\n                            \n                        Attendee 8 - Badge Name - Line 2(Required)Attendee 8 - Badge Name - Line 2(Required)Attendee 8 Badge Company - Line 1Attendee 8 Badge Company - Line 2Attendee 8 - Email(Required)\n                            \n                        Total\n							\n						Credit CardCard Details\n					\n					Cardholder Name\n				\n			\n          \n            \n            \n            \n            \n            \n            \n            \n            \n            \n            \n            \n            \n            \n        \n                        \n                        \n \nSponsored ByThe 40 Under 40 Awards celebrate the region’s brightest young leaders who are making a significant impact in their industries and communities. These awards recognize individuals who are trailblazers\, innovators\, and changemakers—those who go above and beyond in their careers and through volunteer work\, community engagement\, and leadership. \nHonorees must be 40 years old or younger and should exemplify professional excellence\, dedication\, and a passion for making a difference on the South Shore\, South Coast\, and Cape Cod. Whether they are rising stars\, nonprofit champions\, entrepreneurs\, or professionals stepping up in their industries\, these individuals are shaping the future of our local business community. \n Join us as we honor this year’s 40 Under 40 class at a special awards celebration on June 11\, 2026\, at Margaritaville Resort Cape Cod. This unforgettable evening will bring together top professionals for an inspiring night of networking\, recognition\, and celebration.
URL:https://capeplymouthbusiness.com/event-details/40-under-40-2026/
LOCATION:Margaritaville Resort Cape Cod\, 1225 Iyannough Rd\, Hyannis\, MA\, 02601\, United States
CATEGORIES:Cape & Plymouth Business Media Event,In Person Event,Networking
ATTACH;FMTTYPE=image/png:https://capeplymouthbusiness.com/wp-content/uploads/2026/02/40under40-Final.png
ORGANIZER;CN="Cape & Plymouth Business Marketing":MAILTO:office@capeplymouthbusiness.com
END:VEVENT
BEGIN:VEVENT
DTSTART;TZID=America/New_York:20260618T170000
DTEND;TZID=America/New_York:20260618T193000
DTSTAMP:20260421T091639
CREATED:20260402T175639Z
LAST-MODIFIED:20260402T175639Z
UID:10003293-1781802000-1781811000@capeplymouthbusiness.com
SUMMARY:Canal Cruise Business Connections
DESCRIPTION:Please join us for a night on the Cape Cod Canal.\nEnjoy a cruise through the Canal\, drinks\, sunset and collaborating with friends and colleagues. \nHy-Line/Canal Cruises\n220 Ocean Street Cape Cod Canal Cruises\, 184 Onset Ave\, Onset 508-295-383\nHyannis\, MA 02601 \n 
URL:https://capeplymouthbusiness.com/event-details/canal-cruise-business-connections/
LOCATION:MA
END:VEVENT
END:VCALENDAR