BEGIN:VCALENDAR
VERSION:2.0
PRODID:-//Cape &amp; Plymouth Business Marketing - ECPv6.15.20//NONSGML v1.0//EN
CALSCALE:GREGORIAN
METHOD:PUBLISH
X-WR-CALNAME:Cape &amp; Plymouth Business Marketing
X-ORIGINAL-URL:https://capeplymouthbusiness.com
X-WR-CALDESC:Events for Cape &amp; Plymouth Business Marketing
REFRESH-INTERVAL;VALUE=DURATION:PT1H
X-Robots-Tag:noindex
X-PUBLISHED-TTL:PT1H
BEGIN:VTIMEZONE
TZID:America/New_York
BEGIN:DAYLIGHT
TZOFFSETFROM:-0500
TZOFFSETTO:-0400
TZNAME:EDT
DTSTART:20230312T070000
END:DAYLIGHT
BEGIN:STANDARD
TZOFFSETFROM:-0400
TZOFFSETTO:-0500
TZNAME:EST
DTSTART:20231105T060000
END:STANDARD
BEGIN:DAYLIGHT
TZOFFSETFROM:-0500
TZOFFSETTO:-0400
TZNAME:EDT
DTSTART:20240310T070000
END:DAYLIGHT
BEGIN:STANDARD
TZOFFSETFROM:-0400
TZOFFSETTO:-0500
TZNAME:EST
DTSTART:20241103T060000
END:STANDARD
BEGIN:DAYLIGHT
TZOFFSETFROM:-0500
TZOFFSETTO:-0400
TZNAME:EDT
DTSTART:20250309T070000
END:DAYLIGHT
BEGIN:STANDARD
TZOFFSETFROM:-0400
TZOFFSETTO:-0500
TZNAME:EST
DTSTART:20251102T060000
END:STANDARD
BEGIN:DAYLIGHT
TZOFFSETFROM:-0500
TZOFFSETTO:-0400
TZNAME:EDT
DTSTART:20260308T070000
END:DAYLIGHT
BEGIN:STANDARD
TZOFFSETFROM:-0400
TZOFFSETTO:-0500
TZNAME:EST
DTSTART:20261101T060000
END:STANDARD
BEGIN:DAYLIGHT
TZOFFSETFROM:-0500
TZOFFSETTO:-0400
TZNAME:EDT
DTSTART:20270314T070000
END:DAYLIGHT
BEGIN:STANDARD
TZOFFSETFROM:-0400
TZOFFSETTO:-0500
TZNAME:EST
DTSTART:20271107T060000
END:STANDARD
END:VTIMEZONE
BEGIN:VEVENT
DTSTART;TZID=America/New_York:20260416T170000
DTEND;TZID=America/New_York:20260416T183000
DTSTAMP:20260419T182410
CREATED:20260407T233123Z
LAST-MODIFIED:20260407T233123Z
UID:10003298-1776358800-1776364200@capeplymouthbusiness.com
SUMMARY:FALMOUTH CHAMBER BUSINESS AFTER HOURS HOSTED BY THE STEAMSHIP AUTHORITY AT FALMOUTH COMMUNITY TELEVISION (FCTV)
DESCRIPTION:April 7\, 2026\, Falmouth\, MA – Please join us with our host\, The Steamship Authority for a Business After Hours Networking Event on Thursday\, April 16th\, from 5PM– 6:30PM. The event will take place at Falmouth Community Television (FCTV)\, they are located at 310 Dillingham Avenue\, Falmouth\, MA.\n\nThe Steamship Authority is looking forward to introducing their new General Manager Alex Kryska to the community and providing updates on the Woods Hole Terminal work and the new reservation system.\n\nThe featured nonprofit is the Falmouth Dog Park. The Falmouth Dog Park was created to provide a welcoming\, safe and environmentally – sensitive dog park for use by residents\, visitors\, and their pets. The Dog Park is handicap-accessible\, open from dawn to dusk\, and is free of charge.\n\nMake new business acquaintances and meet up with familiar faces in a relaxed\, but convivial atmosphere.\nRefreshments provided.\nNo charge. Please register online at falmouthchamber.com or call 508-548-8500.\n# # #\n\n\n\n\nMaura Aldrich\nDeputy Director\nFalmouth Chamber of Commerce\n20 Academy Lane | Falmouth\, MA 02540\n508-548-8500\nFalmouthchamber.com\n\n\n\n\n\n 
URL:https://capeplymouthbusiness.com/event-details/falmouth-chamber-business-after-hours-hosted-by-the-steamship-authority-at-falmouth-community-television-fctv/
CATEGORIES:In Person Event,Networking
ORGANIZER;CN="Falmouth Chamber of Commerce":MAILTO:info@falmouthchamber.com
END:VEVENT
BEGIN:VEVENT
DTSTART;TZID=America/New_York:20260319T170000
DTEND;TZID=America/New_York:20260319T183000
DTSTAMP:20260419T182410
CREATED:20260305T012906Z
LAST-MODIFIED:20260305T012906Z
UID:10003284-1773939600-1773945000@capeplymouthbusiness.com
SUMMARY:FALMOUTH CHAMBER BUSINESS AFTER HOURS AT NOBSKA LIGHT
DESCRIPTION:March 4\, 2026\, Falmouth\, MA – Please join us with our host\, Friends of Nobska Light\, Inc. for a Business After Hours Networking Event on Thursday\, March 19th\, from 5PM– 6:30PM. The event is also generously hosted by two Falmouth Chamber members\, Eat Your Heart Out Catering and John’s Liquors. Nobska Light is located at 233 Nobska Road\, Woods Hole\, MA. Please note that this event is limited to 50 people.\n\nFriends of Nobska Light is committed to the preservation and protection of this beloved Cape Cod landmark ensuring its future enjoyment for our community and visitors alike.\n\nGather in an informal and friendly atmosphere to make new acquaintances and network with fellow businesspeople.\nRefreshments provided.\nNo charge. Please register online at falmouthchamber.com or call 508-548-8500.
URL:https://capeplymouthbusiness.com/event-details/falmouth-chamber-business-after-hours-at-nobska-light/
CATEGORIES:In Person Event,Networking
ORGANIZER;CN="Falmouth Chamber of Commerce":MAILTO:info@falmouthchamber.com
END:VEVENT
BEGIN:VEVENT
DTSTART;TZID=America/New_York:20260213T080000
DTEND;TZID=America/New_York:20260213T090000
DTSTAMP:20260419T182410
CREATED:20260203T004211Z
LAST-MODIFIED:20260203T004211Z
UID:10003268-1770969600-1770973200@capeplymouthbusiness.com
SUMMARY:BUSINESS BEFORE HOURS AT COMCAST XFINITY STORE
DESCRIPTION:BUSINESS BEFORE HOURS AT COMCAST XFINITY STORE \n352 Main Street\, Falmouth MA \nJoin the Falmouth Chamber of Commerce and our host\, Comcast\, for a business before hours networking event on Friday February 13th\, from 8:00 – 9:00 AM.  Comcast will present new innovations on how to enjoy the 2026 Olympics as well as talk about the savings Comcast Business Mobile provides.  \nEnjoy coffee and breakfast sandwiches as you network and learn more about the company’s offerings such as Comcast Business Mobile. \nPlease register online at falmouthchamber.com\, or call 508-548-8500.
URL:https://capeplymouthbusiness.com/event-details/business-before-hours-at-comcast-xfinity-store/
CATEGORIES:In Person Event,Networking
ORGANIZER;CN="Falmouth Chamber of Commerce":MAILTO:info@falmouthchamber.com
END:VEVENT
BEGIN:VEVENT
DTSTART;TZID=America/New_York:20260210T160000
DTEND;TZID=America/New_York:20260210T170000
DTSTAMP:20260419T182410
CREATED:20260204T190452Z
LAST-MODIFIED:20260204T190452Z
UID:10003269-1770739200-1770742800@capeplymouthbusiness.com
SUMMARY:Ribbon Cutting Sea Stars Early Learning Center
DESCRIPTION:184B Jones Road\, Falmouth MA \nPlease join the Falmouth Chamber\, the staff and families of Sea Stars Early Learning Center on Tuesday\, February 10\, at 4:00PM for an Official Ribbon Cutting and One Year Anniversary Celebration. Enjoy light refreshments and snacks. Sea Stars is located at 184B Jones Road\, Falmouth\, MA. \nSea Stars Early Learning Center Mission: \n\nOur mission is to nurture curious\, confident\, and compassionate learners through play. We provide a safe and joyful environment where children explore\, create\, and grow at their own pace\, building the foundation for a lifelong love of learning.​​ Through play\, exploration\, and meaningful relationships\, we inspire creativity\, critical thinking\, and collaboration\, empowering children to discover their world and their place within it. We partner with families to support each child’s social\, emotional\, cognitive\, and physical development in a nurturing and inclusive environment. \nLearn more seastarsearlylearning.com.
URL:https://capeplymouthbusiness.com/event-details/ribbon-cutting-sea-stars-early-learning-center/
CATEGORIES:In Person Event,Ribbon Cutting
ORGANIZER;CN="Falmouth Chamber of Commerce":MAILTO:info@falmouthchamber.com
END:VEVENT
BEGIN:VEVENT
DTSTART;TZID=America/New_York:20251218T170000
DTEND;TZID=America/New_York:20251218T183000
DTSTAMP:20260419T182410
CREATED:20251211T110834Z
LAST-MODIFIED:20251211T110834Z
UID:10003241-1766077200-1766082600@capeplymouthbusiness.com
SUMMARY:FALMOUTH CHAMBER BUSINESS AFTER HOURS AT SHOREWAY ACRES INN
DESCRIPTION:December 10\, 2025\, Falmouth\, MA – Please join us with our host\, ShoreWay Acres Inn & Cape Cod Lodging\, for a Business After Hours Networking event. ShoreWay Acres is located at 59 Shore Street; the event will take place on Thursday December 18 from 5:00PM – 6:30PM. \nMeet up in a relaxed and comfortable environment to enjoy complimentary refreshments while you make valuable connections. \nFeatured nonprofit Falmouth Service Center\, whose mission is to ease stress\, reduce hunger and improve the quality of life for our neighbors in need. \nPlease bring: Canned tuna\, canned or pouched chicken\, 1lb. Spaghetti\, peanut butter\, pop top soups. \n\nNo charge to attend. \nNo charge. Please register online at falmouthchamber.com or call 508-548-8500.
URL:https://capeplymouthbusiness.com/event-details/falmouth-chamber-business-after-hours-at-shoreway-acres-inn/
CATEGORIES:Fundraising Event,In Person Event,Networking
ORGANIZER;CN="Falmouth Chamber of Commerce":MAILTO:info@falmouthchamber.com
END:VEVENT
BEGIN:VEVENT
DTSTART;TZID=America/New_York:20251028T080000
DTEND;TZID=America/New_York:20251028T090000
DTSTAMP:20260419T182410
CREATED:20251021T061607Z
LAST-MODIFIED:20251021T061607Z
UID:10003222-1761638400-1761642000@capeplymouthbusiness.com
SUMMARY:BUSINESS BEFORE HOURS AT FALMOUTH XFINITY STORE
DESCRIPTION:October 20\, 2025 – Falmouth\, MA – Join the Falmouth Chamber of Commerce and our host\, Comcast Business\, for a business before hours networking event on Tuesday\, October 28\, 2025 from 8:00AM – 9:00AM at Comcast’s Xfinity Store located at 352 Main Street in Falmouth. Attendees will learn more about Comcast Business Mobile and how Comcast Business Internet customers can mix data options on up to 20 lines.  \nGuests will make new business connections or renew existing relationships in an informal and relaxed atmosphere. Refreshments will be provided. \nNo charge. Please register online at falmouthchamber.com or call 508-548-8500.
URL:https://capeplymouthbusiness.com/event-details/business-before-hours-at-falmouth-xfinity-store/
CATEGORIES:In Person Event,Networking,Vendor Event
ORGANIZER;CN="Falmouth Chamber of Commerce":MAILTO:info@falmouthchamber.com
END:VEVENT
BEGIN:VEVENT
DTSTART;TZID=America/New_York:20251008T173000
DTEND;TZID=America/New_York:20251008T190000
DTSTAMP:20260419T182410
CREATED:20251001T191824Z
LAST-MODIFIED:20251001T191824Z
UID:10003209-1759944600-1759950000@capeplymouthbusiness.com
SUMMARY:Good Evening Networking at Iris Hotel Falmouth
DESCRIPTION:
URL:https://capeplymouthbusiness.com/event-details/good-evening-networking-at-iris-hotel-falmouth/
LOCATION:Iris Hotel\, 291 Jones Rd\, Falmouth\, 02540\, United States
CATEGORIES:In Person Event,Networking
ORGANIZER;CN="Falmouth Chamber of Commerce":MAILTO:info@falmouthchamber.com
END:VEVENT
BEGIN:VEVENT
DTSTART;TZID=America/New_York:20250918T173000
DTEND;TZID=America/New_York:20250918T190000
DTSTAMP:20260419T182410
CREATED:20250909T205552Z
LAST-MODIFIED:20250909T205552Z
UID:10003199-1758216600-1758222000@capeplymouthbusiness.com
SUMMARY:Falmouth Chamber Business After Hours Aboard The Island Queen
DESCRIPTION:Join the Falmouth & Cape Cod Chamber of Commerce and our hosts\, the Island Queen Ferry\, for an exclusive Business After Hours and Membership Drive networking event on Thursday\, September 18th\, 5:30-7:00 pm.\n\nEnjoy the opportunity to reconnect with colleagues and make new connections while cruising the beautiful sound. Savor tasty hors d’oeuvres and treats\, expertly crafted by Eat Your Heart Out Catering.\n\nThis event is your chance to learn more about Chamber membership and all the valuable benefits it brings. When you join the Falmouth Chamber\, you’ll also receive Cape Cod Chamber membership at no extra cost. The Falmouth Chamber will continue to operate independently\, maintaining our unique local identity while delivering the same exceptional service to our member businesses and organizations. Your support is crucial as we continue our important work in the community\, firmly believing that what’s good for Falmouth is good for business.\n\nThis event is free to attend\, but kindly RSVP to assist with headcount planning.\n\nParking is available at the Island Queen dock\, 75 Falmouth Heights Road\, Falmouth\, MA.
URL:https://capeplymouthbusiness.com/event-details/falmouth-chamber-business-after-hours-aboard-the-island-queen/
CATEGORIES:In Person Event,Networking
ORGANIZER;CN="Falmouth Chamber of Commerce":MAILTO:info@falmouthchamber.com
END:VEVENT
BEGIN:VEVENT
DTSTART;TZID=America/New_York:20250821T170000
DTEND;TZID=America/New_York:20250821T183000
DTSTAMP:20260419T182410
CREATED:20250811T201252Z
LAST-MODIFIED:20250811T201252Z
UID:10003186-1755795600-1755801000@capeplymouthbusiness.com
SUMMARY:FALMOUTH CHAMBER BUSINESS AFTER HOURS AT CARPET BARN CARPET ONE FLOOR & HOME
DESCRIPTION:Please join us with our host Carpet Barn Carpet One Floor & Home at their Falmouth Showroom located at 719 Main Street\, Falmouth for a Business After Hours Networking Event on Thursday\, August 21\, from 5PM– 6:30PM. \n\nCarpet Barn Carpet One Floor & Home are thrilled to unveil their brand-new Contractor/Business Meeting Room. They have created this space specifically for builders\, designers and contractors. This dedicated room is perfect for meeting with clients\, showcasing materials and designing your projects right here in Falmouth. \n\nThe featured non-profit YMCA Cape Cod. \n\nEnjoy meeting up with business acquaintances and making new connections at a relaxed and convivial gathering. Refreshments provided. \nNo charge. Please register online at falmouthchamber.com or call 508-548-8500.
URL:https://capeplymouthbusiness.com/event-details/falmouth-chamber-business-after-hours-at-carpet-barn-carpet-one-floor-home/
LOCATION:Carpet Barn Carpet One Floor & Home\, 719 Main st\, Falmouth\, United States
CATEGORIES:Networking
ORGANIZER;CN="Falmouth Chamber of Commerce":MAILTO:info@falmouthchamber.com
END:VEVENT
BEGIN:VEVENT
DTSTART;TZID=America/New_York:20250227T170000
DTEND;TZID=America/New_York:20250227T183000
DTSTAMP:20260419T182410
CREATED:20250212T180156Z
LAST-MODIFIED:20250212T180156Z
UID:10003100-1740675600-1740681000@capeplymouthbusiness.com
SUMMARY:February Business After Hours
DESCRIPTION:Please join us with our host\, Eight Cousins\, 199 Main Street\, for a Business After Hours Networking Event on Thursday\, February 20th\, from 5:00– 6:30 PM. \nGather in an informal and friendly atmosphere to make new acquaintances and network with fellow businesspeople. \nEight Cousins’ mission is to share a love and appreciation of books and reading with the wider Falmouth community and to support the continued innovative\, educational\, diverse\, and artistic creations of authors\, illustrators\, editors\, publishers\, and booksellers. \nThe featured nonprofit is The Coalition for Children\, a grant-funded\, education and support program for families with young children from birth to age 6 living in Falmouth or Mashpee. \nRefreshments provided. \nNo charge for members.  Non-members $10.  Please register online at falmouthchamber.com or call 508-548-8500.
URL:https://capeplymouthbusiness.com/event-details/february-business-after-hours/
CATEGORIES:In Person Event,Networking
ATTACH;FMTTYPE=image/png:https://capeplymouthbusiness.com/wp-content/uploads/2024/11/Blog-Featured-Image-Template-9.png
ORGANIZER;CN="Falmouth Chamber of Commerce":MAILTO:info@falmouthchamber.com
END:VEVENT
BEGIN:VEVENT
DTSTART;TZID=America/New_York:20241212T170000
DTEND;TZID=America/New_York:20241212T190000
DTSTAMP:20260419T182410
CREATED:20241205T140021Z
LAST-MODIFIED:20241205T140021Z
UID:10003073-1734022800-1734030000@capeplymouthbusiness.com
SUMMARY:Falmouth Chamber Business After Hours at Sea Crest Beach Resort
DESCRIPTION:December 4\, 2024\, Falmouth\, MA – Please join us with our host\, Sea Crest Beach Resort for a Business After Hours Networking Event on Thursday\, December 12 from 5:00PM – 7:00PM\, they are located at 350 Quaker Road\, North Falmouth. \nThe history of the Sea Crest Beach Resort goes back nearly 100 years. We’ve changed with the times\, but one part has stayed the same. Sea Crest Beach Resort is always the place with a friendly vibe and an uncanny knack for bringing people together. It’s where guests come\, cast off their pretenses (shoes\, too)\, and let their cares slip away over meals\, laughs\, and great surroundings.  We wouldn’t have it any other way. \nGather with fellow businesspeople to catch up\, make new acquaintances and network in a relaxed and friendly atmosphere. \nRefreshments provided. \nThe featured nonprofit is the Falmouth Service Center\, whose mission is to ease stress\, reduce hunger and improve the quality of life for our neighbors in need. The Falmouth Service Center (FSC) works to increase self-sufficiency by helping to build networks among clients\, neighbors and agencies. \nAccepting Holiday donations of: Apple Juice\, Quick Bread Mixes\, Mayonnaise\, Pasta Sauce\, Spaghetti\, Chicken Noodle Soup\, Baby Diapers and Pet Food \nNo charge for members.  Non-members $10.  Please register online at falmouthchamber.com or call 508-548-8500.
URL:https://capeplymouthbusiness.com/event-details/falmouth-chamber-business-after-hours-at-sea-crest-beach-resort/
LOCATION:Sea Crest Beach Hotel\, 350 Quaker Rd\, North Falmouth\, MA\, 02556\, United States
CATEGORIES:In Person Event,Networking
ATTACH;FMTTYPE=image/png:https://capeplymouthbusiness.com/wp-content/uploads/2024/11/Blog-Featured-Image-Template-9.png
ORGANIZER;CN="Falmouth Chamber of Commerce":MAILTO:info@falmouthchamber.com
END:VEVENT
END:VCALENDAR